

BEGIN:VCALENDAR
VERSION:2.0
PRODID:spatie/icalendar-generator
DESCRIPTION:Veranstaltungen von talticker.net
X-WR-CALDESC:Veranstaltungen von talticker.net
REFRESH-INTERVAL;VALUE=DURATION:PT1440M
X-PUBLISHED-TTL:PT1440M
BEGIN:VTIMEZONE
TZID:Europe/Berlin
BEGIN:STANDARD
DTSTART:20251026T030000Z
TZOFFSETFROM:+0200
TZOFFSETTO:+0100
END:STANDARD
BEGIN:DAYLIGHT
DTSTART:20260329T020000Z
TZOFFSETFROM:+0100
TZOFFSETTO:+0200
END:DAYLIGHT
END:VTIMEZONE
BEGIN:VTIMEZONE
TZID:UTC
BEGIN:STANDARD
DTSTART:20250724T081646Z
TZOFFSETFROM:+0000
TZOFFSETTO:+0000
END:STANDARD
END:VTIMEZONE
BEGIN:VEVENT
UID:3064-629
DTSTAMP:20260420T081646Z
SUMMARY:Vortrag &amp;amp\; Diskussion mit Dr. Cemal Öztürk (Universität Duis
 burg/Essen): Teufelskreis der Radikalisierung: Islamismus &amp;amp\; Muslimfei
 ndlichkeit
LOCATION:BOB Campus Max-Planck-Str. 19  Wuppertal North Rhine-Westphalia 42
 277
ORGANIZER;CN=admin:MAILTO:talticker@riseup.net
DTSTART;TZID=Europe/Berlin:20260327T180000
DTEND;TZID=Europe/Berlin:20260327T210000
X-ALT-DESC;FMTTYPE=TEXT/HTML:Teufelskreis der Radikalisierung: Islamismus 
 &amp;amp\; Muslimfeindlichkeit Muslimfeindlichkeit und Islamismus bedrohen uns
 ere Demokratie und unser friedliches Zusammenleben. Auf den ersten Blick w
 irken sie gegensätzlich – tatsächlich aber verstärken sie sich gegens
 eitig. Es geht bei dem Input darum\, zu verstehen\, wie diese Dynamik zu e
 iner gefährlichen (Co-)Radikalisierung führt bzw. führen kann. Gemeinsa
 m wollen wir darüber sprechen: Was können&amp;hellip\;
CATEGORIES:Lesung/Vortrag,  Sonstiges
URL;VALUE=URI:https://talticker.net/?mc-events=vortrag-diskussion-mit-dr-ce
 mal-oeztuerk-universitaet-duisburg-essen-teufelskreis-der-radikalisierung-
 islamismus-muslimfeindlichkeit
METHOD:PUBLISH
END:VEVENT
END:VCALENDAR