

BEGIN:VCALENDAR
VERSION:2.0
PRODID:spatie/icalendar-generator
DESCRIPTION:Veranstaltungen von talticker.net
X-WR-CALDESC:Veranstaltungen von talticker.net
REFRESH-INTERVAL;VALUE=DURATION:PT1440M
X-PUBLISHED-TTL:PT1440M
BEGIN:VTIMEZONE
TZID:Europe/Berlin
BEGIN:STANDARD
DTSTART:20251026T030000Z
TZOFFSETFROM:+0200
TZOFFSETTO:+0100
END:STANDARD
BEGIN:DAYLIGHT
DTSTART:20260329T020000Z
TZOFFSETFROM:+0100
TZOFFSETTO:+0200
END:DAYLIGHT
BEGIN:STANDARD
DTSTART:20261025T030000Z
TZOFFSETFROM:+0200
TZOFFSETTO:+0100
END:STANDARD
END:VTIMEZONE
BEGIN:VTIMEZONE
TZID:UTC
BEGIN:STANDARD
DTSTART:20250724T093411Z
TZOFFSETFROM:+0000
TZOFFSETTO:+0000
END:STANDARD
END:VTIMEZONE
BEGIN:VEVENT
UID:2540-353
DTSTAMP:20260420T093411Z
SUMMARY:Mirker Matinée - Utopiastadt [Faires Frühstück\, Fahrradreparatu
 rcafé\, Nähtreff\, Elektroreparaturcafé\, Utopiastadt-Führung]
LOCATION:Utopiastadt Mirker Str. 48  Wuppertal North Rhine-Westphalia 42105
ORGANIZER;CN=admin:MAILTO:talticker@riseup.net
RRULE:FREQ=MONTHLY;BYDAY=1SU;UNTIL=20261102T000000Z
DTSTART;TZID=Europe/Berlin:20260607T100000
DTEND;TZID=Europe/Berlin:20260607T110000
X-ALT-DESC;FMTTYPE=TEXT/HTML:Jeweils am ersten Sonntag des Monats ist Mirke
 r Matinée! Freund:innen\, Nachbar:innen und gänzlich Unbekannte treffen 
 sich am Rande des Viertels im historischen Bahnhof zu prickelnden Getränk
 en\, Kaffee und Kuchen\, Saft\, Selters oder einfach ein bißchen frischer
  Trassenluft. Sie tauschten sich aus über alte Geschichten und neue Entw
 icklungen des Viertels. Sie füllen die Stadteilpinnwand mit Wohnungsange
 boten\,&amp;hellip\;
CATEGORIES:Community/Stammtisch
URL;VALUE=URI:https://talticker.net/?mc-events=mirker-matinee-utopiastadt-f
 aires-fruehstueck-fahrradreparaturcafe-naehtreff-elektroreparaturcafe-utop
 iastadt-fuehrung&amp;mc_id=2540
METHOD:PUBLISH
END:VEVENT
END:VCALENDAR