

BEGIN:VCALENDAR
VERSION:2.0
PRODID:spatie/icalendar-generator
DESCRIPTION:Veranstaltungen von talticker.net
X-WR-CALDESC:Veranstaltungen von talticker.net
REFRESH-INTERVAL;VALUE=DURATION:PT1440M
X-PUBLISHED-TTL:PT1440M
BEGIN:VTIMEZONE
TZID:Europe/Berlin
BEGIN:STANDARD
DTSTART:20251026T030000Z
TZOFFSETFROM:+0200
TZOFFSETTO:+0100
END:STANDARD
BEGIN:DAYLIGHT
DTSTART:20260329T020000Z
TZOFFSETFROM:+0100
TZOFFSETTO:+0200
END:DAYLIGHT
BEGIN:STANDARD
DTSTART:20261025T030000Z
TZOFFSETFROM:+0200
TZOFFSETTO:+0100
END:STANDARD
END:VTIMEZONE
BEGIN:VTIMEZONE
TZID:UTC
BEGIN:STANDARD
DTSTART:20250724T110812Z
TZOFFSETFROM:+0000
TZOFFSETTO:+0000
END:STANDARD
END:VTIMEZONE
BEGIN:VEVENT
UID:3119-659
DTSTAMP:20260420T110812Z
SUMMARY:Vortrag und Workshop zum Fediverse (alternative Social Media)
LOCATION:Schmitz\\' Katze Hochstraße 23  Wuppertal North Rhine-Westphalia 
 42105
ORGANIZER;CN=admin:MAILTO:talticker@riseup.net
DTSTART;TZID=Europe/Berlin:20260503T160000
DTEND;TZID=Europe/Berlin:20260503T190000
X-ALT-DESC;FMTTYPE=TEXT/HTML:Digitale Selbstermächtigung - Soziale Netzwer
 ke selbstgemacht Lassen wir den Milliardären ihre Tech-Ruinen und bauen u
 ns ein neues Netzwerk - das Fediverse. Wir zeigen euch Alternativen zu Twi
 tter\, Facebook\, Instagram &amp;amp\; co - ohne Werbung\, Datenklau und Zensu
 r - und helfen euch bei den ersten Schritten in Mastodon\, Pixelfed\, Peer
 tube. Du willst Fedi-Punk werden? Komm vorbei\,&amp;hellip\;
CATEGORIES:Lesung/Vortrag,  Workshop/Film
URL;VALUE=URI:https://talticker.net/?mc-events=vortrag-und-workshop-zum-fed
 iverse-alternative-social-media
METHOD:PUBLISH
END:VEVENT
END:VCALENDAR