

BEGIN:VCALENDAR
VERSION:2.0
PRODID:spatie/icalendar-generator
DESCRIPTION:Veranstaltungen von talticker.net
X-WR-CALDESC:Veranstaltungen von talticker.net
REFRESH-INTERVAL;VALUE=DURATION:PT1440M
X-PUBLISHED-TTL:PT1440M
BEGIN:VTIMEZONE
TZID:Europe/Berlin
BEGIN:STANDARD
DTSTART:20251026T030000Z
TZOFFSETFROM:+0200
TZOFFSETTO:+0100
END:STANDARD
BEGIN:DAYLIGHT
DTSTART:20260329T020000Z
TZOFFSETFROM:+0100
TZOFFSETTO:+0200
END:DAYLIGHT
END:VTIMEZONE
BEGIN:VTIMEZONE
TZID:UTC
BEGIN:STANDARD
DTSTART:20250724T081226Z
TZOFFSETFROM:+0000
TZOFFSETTO:+0000
END:STANDARD
END:VTIMEZONE
BEGIN:VEVENT
UID:1976-365
DTSTAMP:20260420T081226Z
SUMMARY:trans* &amp;amp\; friends Chor
LOCATION:Inside:Out - das queere Zentrum in Wuppertal e.V. Hochstraße 60  
 Wuppertal North Rhine-Westphalia 42105
ORGANIZER;CN=admin:MAILTO:talticker@riseup.net
RRULE:FREQ=MONTHLY;BYDAY=4TU;COUNT=12
DTSTART;TZID=Europe/Berlin:20260324T193000
DTEND;TZID=Europe/Berlin:20260324T210000
X-ALT-DESC;FMTTYPE=TEXT/HTML:Der Chor soll vor allen Dingen für trans* und
  non-binäre Personen ein sicherer Ort sein\, die eigene Stimme zu erkunde
 n und ohne Angst aus vollem Hals zu singen (oder je nach Gusto auch leise 
 mitzusummen). Die üblichen Stimmgruppen und ihre Zuweisung zu binären Ge
 schlechtern gelten hier nicht. Alle singen so\, wie sie sich wohlfühlen u
 nd&amp;hellip\;
CATEGORIES:Community/Stammtisch,  Konzert
URL;VALUE=URI:https://talticker.net/?mc-events=trans-friends-chor&amp;mc_id=197
 6
METHOD:PUBLISH
END:VEVENT
END:VCALENDAR