

BEGIN:VCALENDAR
VERSION:2.0
PRODID:spatie/icalendar-generator
DESCRIPTION:Veranstaltungen von talticker.net
X-WR-CALDESC:Veranstaltungen von talticker.net
REFRESH-INTERVAL;VALUE=DURATION:PT1440M
X-PUBLISHED-TTL:PT1440M
BEGIN:VTIMEZONE
TZID:Europe/Berlin
BEGIN:STANDARD
DTSTART:20251026T030000Z
TZOFFSETFROM:+0200
TZOFFSETTO:+0100
END:STANDARD
BEGIN:DAYLIGHT
DTSTART:20260329T020000Z
TZOFFSETFROM:+0100
TZOFFSETTO:+0200
END:DAYLIGHT
END:VTIMEZONE
BEGIN:VTIMEZONE
TZID:UTC
BEGIN:STANDARD
DTSTART:20250724T082539Z
TZOFFSETFROM:+0000
TZOFFSETTO:+0000
END:STANDARD
END:VTIMEZONE
BEGIN:VEVENT
UID:2776-566
DTSTAMP:20260420T082539Z
SUMMARY:Tierschutz Tresen
LOCATION:Schmitz\\' Katze Hochstraße 23  Wuppertal North Rhine-Westphalia 
 42105
ORGANIZER;CN=admin:MAILTO:talticker@riseup.net
RRULE:FREQ=MONTHLY;BYDAY=2SU;UNTIL=20300113T000000Z
DTSTART;TZID=Europe/Berlin:20260308T150000
DTEND;TZID=Europe/Berlin:20260308T190000
X-ALT-DESC;FMTTYPE=TEXT/HTML:Liebe Tierfreund*innen 🐾\, wir freuen uns r
 iesig\, euch mitzuteilen\, dass wir ab dem 11. Januar 2026 ein monatliches
  öffentliches Treffen für alle Vereinsmitglieder*innen und Interessierte
  anbieten! 💬✨ Taltatzen Instagram 📅 Jeden 2. Sonntag im Monat 
 📍 Schmitz‘ Katze\, Hochstraße 23\, 42105 Wuppertal Gemeinsam möchte
 n wir uns austauschen\, Neuigkeiten von unseren Stationen und Fangaktionen
  teilen und bei&amp;hellip\;
CATEGORIES:Café/Kneipe,  Community/Stammtisch
URL;VALUE=URI:https://talticker.net/?mc-events=tierschutz-tresen&amp;mc_id=2776
METHOD:PUBLISH
END:VEVENT
END:VCALENDAR