

BEGIN:VCALENDAR
VERSION:2.0
PRODID:spatie/icalendar-generator
DESCRIPTION:Veranstaltungen von talticker.net
X-WR-CALDESC:Veranstaltungen von talticker.net
REFRESH-INTERVAL;VALUE=DURATION:PT1440M
X-PUBLISHED-TTL:PT1440M
BEGIN:VTIMEZONE
TZID:Europe/Berlin
BEGIN:STANDARD
DTSTART:20251026T030000Z
TZOFFSETFROM:+0200
TZOFFSETTO:+0100
END:STANDARD
BEGIN:DAYLIGHT
DTSTART:20260329T020000Z
TZOFFSETFROM:+0100
TZOFFSETTO:+0200
END:DAYLIGHT
END:VTIMEZONE
BEGIN:VTIMEZONE
TZID:UTC
BEGIN:STANDARD
DTSTART:20250724T080114Z
TZOFFSETFROM:+0000
TZOFFSETTO:+0000
END:STANDARD
END:VTIMEZONE
BEGIN:VEVENT
UID:3056-621
DTSTAMP:20260420T080114Z
SUMMARY:Straßenfest - \"Get organized\" am Schusterplatz
LOCATION:Schusterplatz Schusterstraße 15  Wuppertal North Rhine-Westphalia
  42105
ORGANIZER;CN=admin:MAILTO:talticker@riseup.net
DTSTART;TZID=Europe/Berlin:20260308T130000
DTEND;TZID=Europe/Berlin:20260308T140000
X-ALT-DESC;FMTTYPE=TEXT/HTML:Anlässlich des internationalen Feministischen
  Kampftages laden wir als Bündnis 8. März am 08.03.26 ab 13:00 zum Stra
 ßenfest auf den Schusterplatz ein! Wir wollen am Tag nach der Nachttanzde
 mo zusammen kommen und Banden bilden\, uns organisieren\, uns solidarisier
 en. Wir wollen uns austauschen und verschiedene lokale Initiativen kennen 
 lernen. Wir bilden Banden und treten nach oben! Kommt&amp;hellip\;
CATEGORIES:Kundgebung/Demo
URL;VALUE=URI:https://talticker.net/?mc-events=strassenfest-get-organized-a
 m-schusterplatz
METHOD:PUBLISH
END:VEVENT
END:VCALENDAR