

BEGIN:VCALENDAR
VERSION:2.0
PRODID:spatie/icalendar-generator
DESCRIPTION:Veranstaltungen von talticker.net
X-WR-CALDESC:Veranstaltungen von talticker.net
REFRESH-INTERVAL;VALUE=DURATION:PT1440M
X-PUBLISHED-TTL:PT1440M
BEGIN:VTIMEZONE
TZID:Europe/Berlin
BEGIN:STANDARD
DTSTART:20251026T030000Z
TZOFFSETFROM:+0200
TZOFFSETTO:+0100
END:STANDARD
BEGIN:DAYLIGHT
DTSTART:20260329T020000Z
TZOFFSETFROM:+0100
TZOFFSETTO:+0200
END:DAYLIGHT
BEGIN:STANDARD
DTSTART:20261025T030000Z
TZOFFSETFROM:+0200
TZOFFSETTO:+0100
END:STANDARD
END:VTIMEZONE
BEGIN:VTIMEZONE
TZID:UTC
BEGIN:STANDARD
DTSTART:20250724T110121Z
TZOFFSETFROM:+0000
TZOFFSETTO:+0000
END:STANDARD
END:VTIMEZONE
BEGIN:VEVENT
UID:3073-638
DTSTAMP:20260420T110121Z
SUMMARY:Stammtisch der PARTEI
LOCATION:Chili Royal  Brunnenstraße 31   Wuppertal North Rhine-Westphalia 
 42105
ORGANIZER;CN=admin:MAILTO:talticker@riseup.net
RRULE:FREQ=MONTHLY;BYDAY=4FR;COUNT=12
DTSTART;TZID=Europe/Berlin:20260424T200000
DTEND;TZID=Europe/Berlin:20260424T210000
X-ALT-DESC;FMTTYPE=TEXT/HTML:Monatliches Plaudern\, Planen und Ideensammeln
CATEGORIES:Community/Stammtisch
URL;VALUE=URI:https://talticker.net/?mc-events=stammtisch-der-partei&amp;mc_id=
 3073
METHOD:PUBLISH
END:VEVENT
END:VCALENDAR