

BEGIN:VCALENDAR
VERSION:2.0
PRODID:spatie/icalendar-generator
DESCRIPTION:Veranstaltungen von talticker.net
X-WR-CALDESC:Veranstaltungen von talticker.net
REFRESH-INTERVAL;VALUE=DURATION:PT1440M
X-PUBLISHED-TTL:PT1440M
BEGIN:VTIMEZONE
TZID:Europe/Berlin
BEGIN:STANDARD
DTSTART:20251026T030000Z
TZOFFSETFROM:+0200
TZOFFSETTO:+0100
END:STANDARD
BEGIN:DAYLIGHT
DTSTART:20260329T020000Z
TZOFFSETFROM:+0100
TZOFFSETTO:+0200
END:DAYLIGHT
END:VTIMEZONE
BEGIN:VTIMEZONE
TZID:UTC
BEGIN:STANDARD
DTSTART:20250724T081436Z
TZOFFSETFROM:+0000
TZOFFSETTO:+0000
END:STANDARD
END:VTIMEZONE
BEGIN:VEVENT
UID:3004-612
DTSTAMP:20260420T081436Z
SUMMARY:Spieleabend in der Färberei
LOCATION:Färberei Peter-Hansen-Platz 1  Wuppertal North Rhine-Westphalia 4
 2275
ORGANIZER;CN=admin:MAILTO:talticker@riseup.net
RRULE:FREQ=WEEKLY;UNTIL=20270205T000000Z
DTSTART;TZID=Europe/Berlin:20260403T160000
DTEND;TZID=Europe/Berlin:20260403T200000
X-ALT-DESC;FMTTYPE=TEXT/HTML:
CATEGORIES:Community/Stammtisch
URL;VALUE=URI:https://talticker.net/?mc-events=spieleabend-in-der-faerberei
 -2&amp;mc_id=3004
METHOD:PUBLISH
END:VEVENT
END:VCALENDAR