BEGIN:VCALENDAR
VERSION:2.0
PRODID:spatie/icalendar-generator
DESCRIPTION:Veranstaltungen von talticker.net
X-WR-CALDESC:Veranstaltungen von talticker.net
REFRESH-INTERVAL;VALUE=DURATION:PT1440M
X-PUBLISHED-TTL:PT1440M
BEGIN:VTIMEZONE
TZID:Europe/Berlin
BEGIN:STANDARD
DTSTART:20251026T030000Z
TZOFFSETFROM:+0200
TZOFFSETTO:+0100
END:STANDARD
BEGIN:DAYLIGHT
DTSTART:20260329T020000Z
TZOFFSETFROM:+0100
TZOFFSETTO:+0200
END:DAYLIGHT
END:VTIMEZONE
BEGIN:VTIMEZONE
TZID:UTC
BEGIN:STANDARD
DTSTART:20250724T080752Z
TZOFFSETFROM:+0000
TZOFFSETTO:+0000
END:STANDARD
END:VTIMEZONE
BEGIN:VEVENT
UID:2855-588
DTSTAMP:20260420T080752Z
SUMMARY:Sozialberatung - die Linke hilft
LOCATION:Parteibüro Die Linke Hochstraße 63  Wuppertal  42105
ORGANIZER;CN=admin:MAILTO:talticker@riseup.net
RRULE:FREQ=MONTHLY;BYDAY=4TH;UNTIL=20270129T000000Z
DTSTART;TZID=Europe/Berlin:20260326T100000
DTEND;TZID=Europe/Berlin:20260326T130000
X-ALT-DESC;FMTTYPE=TEXT/HTML:Ärger mit dem Amt\, Probleme mit Vermieter*in
 nen oder unverständliche Briefe? Wir lassen dich nicht allein! Unsere Ehr
 enamtlichen unterstützen dich beim Verstehen von Bescheiden\, Formularen 
 und Schreiben – bei Bedarf auch bei Behördengängen. 🕙 Sprechstunde:
  Jeden 2. &amp;amp\; 4. Donnerstag im Monat10–13 Uhr &amp;amp\; 16–18:30 Uhr 
 📍 Ort:DIE LINKE WuppertalHochstraße 63\, 42105 Wuppertal 📞 Kontakt:
 Telefon: 0202&amp;hellip\;
CATEGORIES:Sonstiges
URL;VALUE=URI:https://talticker.net/?mc-events=sozialberatung-die-linke-hil
 ft-5&amp;mc_id=2855
METHOD:PUBLISH
END:VEVENT
END:VCALENDAR