

BEGIN:VCALENDAR
VERSION:2.0
PRODID:spatie/icalendar-generator
DESCRIPTION:Veranstaltungen von talticker.net
X-WR-CALDESC:Veranstaltungen von talticker.net
REFRESH-INTERVAL;VALUE=DURATION:PT1440M
X-PUBLISHED-TTL:PT1440M
BEGIN:VTIMEZONE
TZID:Europe/Berlin
BEGIN:STANDARD
DTSTART:20251026T030000Z
TZOFFSETFROM:+0200
TZOFFSETTO:+0100
END:STANDARD
BEGIN:DAYLIGHT
DTSTART:20260329T020000Z
TZOFFSETFROM:+0100
TZOFFSETTO:+0200
END:DAYLIGHT
END:VTIMEZONE
BEGIN:VTIMEZONE
TZID:UTC
BEGIN:STANDARD
DTSTART:20250724T112714Z
TZOFFSETFROM:+0000
TZOFFSETTO:+0000
END:STANDARD
END:VTIMEZONE
BEGIN:VEVENT
UID:2747-407
DTSTAMP:20260420T112714Z
SUMMARY:Salsa Caribeña Party! + kostenloser Einstiegsworkshop!
LOCATION:Färberei Peter-Hansen-Platz 1  Wuppertal North Rhine-Westphalia 4
 2275
ORGANIZER;CN=admin:MAILTO:talticker@riseup.net
RRULE:FREQ=MONTHLY;BYDAY=2SA;UNTIL=20260712T000000Z
DTSTART;TZID=Europe/Berlin:20260411T190000
DTEND;TZID=Europe/Berlin:20260411T200000
X-ALT-DESC;FMTTYPE=TEXT/HTML:An jedem zweiten Samstag\, im Monat lädt die 
 Färberei in Wuppertal-Barmen wieder zur Salsa Caribeña Party auf ihr Par
 kett im großen Saal ein. DJ QuBa spielt ab 20 Uhr die beste Salsa- &amp;amp\;
  Bachatamusik aus Kuba\, Puerto Rico\, Dominikanische Republik\, Kolumbien
 \, Panama und Venezuela. Wer mag\, ist herzlich eingeladen bereits um 19 U
 hr vorbeizukommen und&amp;hellip\;
CATEGORIES:Party
URL;VALUE=URI:https://talticker.net/?mc-events=salsa-caribena-party-kostenl
 oser-einstiegsworkshop&amp;mc_id=2747
METHOD:PUBLISH
END:VEVENT
END:VCALENDAR