

BEGIN:VCALENDAR
VERSION:2.0
PRODID:spatie/icalendar-generator
DESCRIPTION:Veranstaltungen von talticker.net
X-WR-CALDESC:Veranstaltungen von talticker.net
REFRESH-INTERVAL;VALUE=DURATION:PT1440M
X-PUBLISHED-TTL:PT1440M
BEGIN:VTIMEZONE
TZID:Europe/Berlin
BEGIN:STANDARD
DTSTART:20251026T030000Z
TZOFFSETFROM:+0200
TZOFFSETTO:+0100
END:STANDARD
BEGIN:DAYLIGHT
DTSTART:20260329T020000Z
TZOFFSETFROM:+0100
TZOFFSETTO:+0200
END:DAYLIGHT
END:VTIMEZONE
BEGIN:VTIMEZONE
TZID:UTC
BEGIN:STANDARD
DTSTART:20250724T080235Z
TZOFFSETFROM:+0000
TZOFFSETTO:+0000
END:STANDARD
END:VTIMEZONE
BEGIN:VEVENT
UID:2885-597
DTSTAMP:20260420T080235Z
SUMMARY:Rote Hilfe Café im K49
LOCATION:K49 Lothringer Straße 49  Wuppertal Nordrhein-Westfalen 42107
ORGANIZER;CN=admin:MAILTO:talticker@riseup.net
RRULE:FREQ=MONTHLY;BYDAY=2SU;COUNT=12
DTSTART;TZID=Europe/Berlin:20260308T150000
DTEND;TZID=Europe/Berlin:20260308T170000
X-ALT-DESC;FMTTYPE=TEXT/HTML:Jeden 2. Sonntag bieten wir\, die Ortgruppe Wu
 ppertal der Roten Hilfe\, offene Beratungs-Cafés zwischen 15 und 17 Uhr i
 m K49 an. In dieser Zeit könnt ihr mit euren Anliegen einfach vorbeikomme
 n - ohne Termin oder Anmeldung! Wir als Rote Hilfe bieten Unterstützung u
 nd finanzielle Hilfe für Linke und politisch engagierte Menschen\, die mi
 t rechtlichen Problemen&amp;hellip\;
CATEGORIES:Café/Kneipe,  Sonstiges
URL;VALUE=URI:https://talticker.net/?mc-events=rote-hilfe-cafe-im-k49&amp;mc_id
 =2885
METHOD:PUBLISH
END:VEVENT
END:VCALENDAR