

BEGIN:VCALENDAR
VERSION:2.0
PRODID:spatie/icalendar-generator
DESCRIPTION:Veranstaltungen von talticker.net
X-WR-CALDESC:Veranstaltungen von talticker.net
REFRESH-INTERVAL;VALUE=DURATION:PT1440M
X-PUBLISHED-TTL:PT1440M
BEGIN:VTIMEZONE
TZID:Europe/Berlin
BEGIN:STANDARD
DTSTART:20251026T030000Z
TZOFFSETFROM:+0200
TZOFFSETTO:+0100
END:STANDARD
BEGIN:DAYLIGHT
DTSTART:20260329T020000Z
TZOFFSETFROM:+0100
TZOFFSETTO:+0200
END:DAYLIGHT
END:VTIMEZONE
BEGIN:VTIMEZONE
TZID:UTC
BEGIN:STANDARD
DTSTART:20250724T075912Z
TZOFFSETFROM:+0000
TZOFFSETTO:+0000
END:STANDARD
END:VTIMEZONE
BEGIN:VEVENT
UID:1962-363
DTSTAMP:20260420T075912Z
SUMMARY:Queerer Spieleabend
LOCATION:Inside:Out - das queere Zentrum in Wuppertal e.V. Hochstraße 60  
 Wuppertal North Rhine-Westphalia 42105
ORGANIZER;CN=admin:MAILTO:talticker@riseup.net
RRULE:FREQ=MONTHLY;BYDAY=3TH;COUNT=12
DTSTART;TZID=Europe/Berlin:20260319T180000
DTEND;TZID=Europe/Berlin:20260319T220000
X-ALT-DESC;FMTTYPE=TEXT/HTML:🌈Der Queere Spieleabend findet ab sofort je
 den dritten 3. Donnerstag ab 18 Uhr und jeden 4. Sonntag im Monat ab 15 Uh
 r statt. Bringt gerne Eure eigenen Spiele mit. Wir freuen uns auf Euch! 
 ✨ — 🌈The Queer Games Evening now takes place every 3rd Thursday fro
 m 6pm and every 4th Sunday of the month&amp;hellip\;
CATEGORIES:Café/Kneipe,  Community/Stammtisch
URL;VALUE=URI:https://talticker.net/?mc-events=queerer-spieleabend-2&amp;mc_id=
 1962
METHOD:PUBLISH
END:VEVENT
END:VCALENDAR