

BEGIN:VCALENDAR
VERSION:2.0
PRODID:spatie/icalendar-generator
DESCRIPTION:Veranstaltungen von talticker.net
X-WR-CALDESC:Veranstaltungen von talticker.net
REFRESH-INTERVAL;VALUE=DURATION:PT1440M
X-PUBLISHED-TTL:PT1440M
BEGIN:VTIMEZONE
TZID:Europe/Berlin
BEGIN:STANDARD
DTSTART:20251026T030000Z
TZOFFSETFROM:+0200
TZOFFSETTO:+0100
END:STANDARD
BEGIN:DAYLIGHT
DTSTART:20260329T020000Z
TZOFFSETFROM:+0100
TZOFFSETTO:+0200
END:DAYLIGHT
END:VTIMEZONE
BEGIN:VTIMEZONE
TZID:UTC
BEGIN:STANDARD
DTSTART:20250724T110812Z
TZOFFSETFROM:+0000
TZOFFSETTO:+0000
END:STANDARD
END:VTIMEZONE
BEGIN:VEVENT
UID:3112-654
DTSTAMP:20260420T110812Z
SUMMARY:Punx 4 Palestine (HPSS + XLangenX + Cre-Des)
LOCATION:AZ Wuppertal Markomannenstr. 1-3  Wuppertal NRW 42105
ORGANIZER;CN=admin:MAILTO:talticker@riseup.net
DTSTART;TZID=Europe/Berlin:20260411T190000
DTEND;TZID=Europe/Berlin:20260411T200000
X-ALT-DESC;FMTTYPE=TEXT/HTML:International Weekend in Solidarity with Masaf
 a Yatta (09. - 11.04.26) https://www.alleyesonmasaferyatta.com Konzert im 
 AZ Wuppertal mit: HPSS (HC-Punk // Mülheim) https://hpss.bandcamp.com XLa
 ngenX (Powerviolence // Pott) https://www.youtube.com/@xlangenx1152 Cre-De
 s (HC-Punk // Hannover) https://cre-des.bandcamp.com Doors: 19:00Noise: 20
 :30 Wie immer gibts Kaltgetränke für'n schmalen Taler und Solipfeffi fü
 r'n Euro Auf unseren Shows gilt: NO DISCRIMINATION - NO DISCUSSIONAZ BLEIB
 T&amp;hellip\;
CATEGORIES:Konzert
URL;VALUE=URI:https://talticker.net/?mc-events=punx-4-palestine-hpss-xlange
 nx-cre-des
METHOD:PUBLISH
END:VEVENT
END:VCALENDAR