

BEGIN:VCALENDAR
VERSION:2.0
PRODID:spatie/icalendar-generator
DESCRIPTION:Veranstaltungen von talticker.net
X-WR-CALDESC:Veranstaltungen von talticker.net
REFRESH-INTERVAL;VALUE=DURATION:PT1440M
X-PUBLISHED-TTL:PT1440M
BEGIN:VTIMEZONE
TZID:Europe/Berlin
BEGIN:STANDARD
DTSTART:20251026T030000Z
TZOFFSETFROM:+0200
TZOFFSETTO:+0100
END:STANDARD
BEGIN:DAYLIGHT
DTSTART:20260329T020000Z
TZOFFSETFROM:+0100
TZOFFSETTO:+0200
END:DAYLIGHT
END:VTIMEZONE
BEGIN:VTIMEZONE
TZID:UTC
BEGIN:STANDARD
DTSTART:20250724T095620Z
TZOFFSETFROM:+0000
TZOFFSETTO:+0000
END:STANDARD
END:VTIMEZONE
BEGIN:VEVENT
UID:3066-631
DTSTAMP:20260420T095620Z
SUMMARY:Pubquiz mit der Roten Hilfe
LOCATION:K49 Lothringer Straße 49  Wuppertal Nordrhein-Westfalen 42107
ORGANIZER;CN=admin:MAILTO:talticker@riseup.net
DTSTART;TZID=Europe/Berlin:20260306T180000
DTEND;TZID=Europe/Berlin:20260306T220000
X-ALT-DESC;FMTTYPE=TEXT/HTML:Am 06.03. ist es soweit! Das Pubquiz mit der R
 oten Hilfe Wuppertal und dem Bündnis 8 März geht in die erste Runde. Als
 o schnappt euch eure quizwütigen Freund*innen und kommt vorbei! Geöffnet
  ist ab 18 Uhr\, los gehts um 19 Uhr. Freut euch auf special Drinks und wa
 hnwitzige Preise!
CATEGORIES:Café/Kneipe
URL;VALUE=URI:https://talticker.net/?mc-events=pubquiz-mit-der-roten-hilfe-
 2
METHOD:PUBLISH
END:VEVENT
END:VCALENDAR