

BEGIN:VCALENDAR
VERSION:2.0
PRODID:spatie/icalendar-generator
DESCRIPTION:Veranstaltungen von talticker.net
X-WR-CALDESC:Veranstaltungen von talticker.net
REFRESH-INTERVAL;VALUE=DURATION:PT1440M
X-PUBLISHED-TTL:PT1440M
BEGIN:VTIMEZONE
TZID:Europe/Berlin
BEGIN:STANDARD
DTSTART:20251026T030000Z
TZOFFSETFROM:+0200
TZOFFSETTO:+0100
END:STANDARD
BEGIN:DAYLIGHT
DTSTART:20260329T020000Z
TZOFFSETFROM:+0100
TZOFFSETTO:+0200
END:DAYLIGHT
END:VTIMEZONE
BEGIN:VTIMEZONE
TZID:UTC
BEGIN:STANDARD
DTSTART:20250724T080427Z
TZOFFSETFROM:+0000
TZOFFSETTO:+0000
END:STANDARD
END:VTIMEZONE
BEGIN:VEVENT
UID:2500-190
DTSTAMP:20260420T080427Z
SUMMARY:Offenes Wohnzimmer + Café im K49
LOCATION:K49 Lothringer Straße 49  Wuppertal Nordrhein-Westfalen 42107
ORGANIZER;CN=admin:MAILTO:talticker@riseup.net
RRULE:FREQ=WEEKLY;UNTIL=20261102T000000Z
DTSTART;TZID=Europe/Berlin:20260322T140000
DTEND;TZID=Europe/Berlin:20260322T180000
X-ALT-DESC;FMTTYPE=TEXT/HTML:Jeden Sonntag findet das Offene Wohnzimmer im 
 K49 statt. Dabei soll ein Austausch für die Nachbarschaft und alle Intere
 ssierten bei Kaffee und Kuchen stattfinden. Der Sonntag wird im K49 dabei 
 oftmals unterschiedlich gestaltet: Manchmal gibt es Magie\, manchmal gibt 
 es Flohmärkte\, manchmal gibt es frittierte Köstlichkeiten\, Kniffelturn
 iere und vieles mehr! Wir freuen uns auf euch&amp;hellip\;
CATEGORIES:Café/Kneipe
URL;VALUE=URI:https://talticker.net/?mc-events=offenes-wohnzimmer-cafe-im-k
 49&amp;mc_id=2500
METHOD:PUBLISH
END:VEVENT
END:VCALENDAR