

BEGIN:VCALENDAR
VERSION:2.0
PRODID:spatie/icalendar-generator
DESCRIPTION:Veranstaltungen von talticker.net
X-WR-CALDESC:Veranstaltungen von talticker.net
REFRESH-INTERVAL;VALUE=DURATION:PT1440M
X-PUBLISHED-TTL:PT1440M
BEGIN:VTIMEZONE
TZID:Europe/Berlin
BEGIN:STANDARD
DTSTART:20251026T030000Z
TZOFFSETFROM:+0200
TZOFFSETTO:+0100
END:STANDARD
BEGIN:DAYLIGHT
DTSTART:20260329T020000Z
TZOFFSETFROM:+0100
TZOFFSETTO:+0200
END:DAYLIGHT
BEGIN:STANDARD
DTSTART:20261025T030000Z
TZOFFSETFROM:+0200
TZOFFSETTO:+0100
END:STANDARD
END:VTIMEZONE
BEGIN:VTIMEZONE
TZID:UTC
BEGIN:STANDARD
DTSTART:20250724T125151Z
TZOFFSETFROM:+0000
TZOFFSETTO:+0000
END:STANDARD
END:VTIMEZONE
BEGIN:VEVENT
UID:2591-447
DTSTAMP:20260420T125151Z
SUMMARY:Offenes Treffen Widerstands-Kollektiv
LOCATION:Die Börse  Wolkenburg 100  Wuppertal North Rhine-Westphalia 42119
ORGANIZER;CN=admin:MAILTO:talticker@riseup.net
RRULE:FREQ=MONTHLY;BYDAY=2TH;UNTIL=20261113T000000Z
DTSTART;TZID=Europe/Berlin:20260514T190000
DTEND;TZID=Europe/Berlin:20260514T200000
X-ALT-DESC;FMTTYPE=TEXT/HTML:Klimaschutz\, Demokratie und das gute Leben f
 ür alle selber machen! Die Klimakatastrophe eskaliert\, die Ungerechtigke
 it nimmt zu und weltweit ist der Faschismus auf dem Vormarsch. Wir hören 
 nicht auf\, für die beste aller möglichen Welten zu kämpfen. Wir leiste
 n Widerstand gegen die Gewalt\, Zerstörung\, Unterdrückung und Ausbeutun
 g in dieser Welt. Wir haben nichts zu verlieren&amp;hellip\;
CATEGORIES:Plenum
URL;VALUE=URI:https://talticker.net/?mc-events=offenes-treffen-widerstands-
 kollektiv&amp;mc_id=2591
METHOD:PUBLISH
END:VEVENT
END:VCALENDAR