

BEGIN:VCALENDAR
VERSION:2.0
PRODID:spatie/icalendar-generator
DESCRIPTION:Veranstaltungen von talticker.net
X-WR-CALDESC:Veranstaltungen von talticker.net
REFRESH-INTERVAL;VALUE=DURATION:PT1440M
X-PUBLISHED-TTL:PT1440M
BEGIN:VTIMEZONE
TZID:Europe/Berlin
BEGIN:STANDARD
DTSTART:20251026T030000Z
TZOFFSETFROM:+0200
TZOFFSETTO:+0100
END:STANDARD
BEGIN:DAYLIGHT
DTSTART:20260329T020000Z
TZOFFSETFROM:+0100
TZOFFSETTO:+0200
END:DAYLIGHT
END:VTIMEZONE
BEGIN:VTIMEZONE
TZID:UTC
BEGIN:STANDARD
DTSTART:20250724T105949Z
TZOFFSETFROM:+0000
TZOFFSETTO:+0000
END:STANDARD
END:VTIMEZONE
BEGIN:VEVENT
UID:2003-367
DTSTAMP:20260420T105949Z
SUMMARY:Offene Risowerkstatt
LOCATION:Nyomda Druckwerkstatt Wernerstraße 30  Wuppertal North Rhine-West
 phalia 42285
ORGANIZER;CN=admin:MAILTO:talticker@riseup.net
RRULE:FREQ=MONTHLY;BYDAY=3TU;COUNT=12
DTSTART;TZID=Europe/Berlin:20260421T170000
DTEND;TZID=Europe/Berlin:20260421T210000
X-ALT-DESC;FMTTYPE=TEXT/HTML:💫 Offene Werkstatt💫 Am 19. August könnt
  ihr wieder gegen Spende mit uns Riso drucken! Einfach ohne Anmeldung in d
 ie Wernerstraße 30 kommen und Poster\, Postkarten\, Kalenderblätter\, Co
 llagen\, Zines herstellen oder einfach nur experimentieren. Mit dem Risogr
 aphen kann man Kopieren oder von Datei drucken. Wir haben die Farben Crims
 on ♥️ Black 🖤 Flourescent Pink 💖&amp;hellip\;
CATEGORIES:Ausstellung/Kunst,  Community/Stammtisch,  Workshop/Film
URL;VALUE=URI:https://talticker.net/?mc-events=offene-risowerkstatt&amp;mc_id=2
 003
METHOD:PUBLISH
END:VEVENT
END:VCALENDAR