

BEGIN:VCALENDAR
VERSION:2.0
PRODID:spatie/icalendar-generator
DESCRIPTION:Veranstaltungen von talticker.net
X-WR-CALDESC:Veranstaltungen von talticker.net
REFRESH-INTERVAL;VALUE=DURATION:PT1440M
X-PUBLISHED-TTL:PT1440M
BEGIN:VTIMEZONE
TZID:Europe/Berlin
BEGIN:STANDARD
DTSTART:20251026T030000Z
TZOFFSETFROM:+0200
TZOFFSETTO:+0100
END:STANDARD
BEGIN:DAYLIGHT
DTSTART:20260329T020000Z
TZOFFSETFROM:+0100
TZOFFSETTO:+0200
END:DAYLIGHT
BEGIN:STANDARD
DTSTART:20261025T030000Z
TZOFFSETFROM:+0200
TZOFFSETTO:+0100
END:STANDARD
END:VTIMEZONE
BEGIN:VTIMEZONE
TZID:UTC
BEGIN:STANDARD
DTSTART:20250724T125457Z
TZOFFSETFROM:+0000
TZOFFSETTO:+0000
END:STANDARD
END:VTIMEZONE
BEGIN:VEVENT
UID:1736-286
DTSTAMP:20260420T125457Z
SUMMARY:OAT Offenes Antifa Treffen
LOCATION:Schmitz\\' Katze Hochstraße 23  Wuppertal North Rhine-Westphalia 
 42105
ORGANIZER;CN=admin:MAILTO:talticker@riseup.net
RRULE:FREQ=MONTHLY;BYDAY=1TH;UNTIL=20261203T000000Z
DTSTART;TZID=Europe/Berlin:20260507T190000
DTEND;TZID=Europe/Berlin:20260508T000000
X-ALT-DESC;FMTTYPE=TEXT/HTML:Ihr seid herzlich eingeladen zum OAT der Antif
 a Wuppertal zu kommen. Dort sprechen wir über anstehende Aktionen und Dem
 os. Wenn ihr schon immer mal aktiv gegen Nazis werden wolltet\, aber nicht
  wisst wo ihr euch einbringen wollt dann kommt vorbei!
CATEGORIES:Plenum
URL;VALUE=URI:https://talticker.net/?mc-events=oat-offenes-antifa-treffen-2
 &amp;mc_id=1736
METHOD:PUBLISH
END:VEVENT
END:VCALENDAR