

BEGIN:VCALENDAR
VERSION:2.0
PRODID:spatie/icalendar-generator
DESCRIPTION:Veranstaltungen von talticker.net
X-WR-CALDESC:Veranstaltungen von talticker.net
REFRESH-INTERVAL;VALUE=DURATION:PT1440M
X-PUBLISHED-TTL:PT1440M
BEGIN:VTIMEZONE
TZID:Europe/Berlin
BEGIN:STANDARD
DTSTART:20251026T030000Z
TZOFFSETFROM:+0200
TZOFFSETTO:+0100
END:STANDARD
BEGIN:DAYLIGHT
DTSTART:20260329T020000Z
TZOFFSETFROM:+0100
TZOFFSETTO:+0200
END:DAYLIGHT
BEGIN:STANDARD
DTSTART:20261025T030000Z
TZOFFSETFROM:+0200
TZOFFSETTO:+0100
END:STANDARD
END:VTIMEZONE
BEGIN:VTIMEZONE
TZID:UTC
BEGIN:STANDARD
DTSTART:20250724T105954Z
TZOFFSETFROM:+0000
TZOFFSETTO:+0000
END:STANDARD
END:VTIMEZONE
BEGIN:VEVENT
UID:3067-632
DTSTAMP:20260420T105954Z
SUMMARY:N.T.Ä Record-Release-Show
LOCATION:AZ Wuppertal Markomannenstr. 1-3  Wuppertal NRW 42105
ORGANIZER;CN=admin:MAILTO:talticker@riseup.net
DTSTART;TZID=Europe/Berlin:20260424T190000
DTEND;TZID=Europe/Berlin:20260424T200000
X-ALT-DESC;FMTTYPE=TEXT/HTML:Das neue Jahr für AZ*innen startet grandios! 
 Wir laden euch ein feiert mit uns am 24.04.2026 die Record-Release-Party v
 on N.T.Ä! Das neue Album \"Dark Stories\"\, gibt's direkt vor Ort bei @sc
 umculture_diy. Wann?: 19 UHR Wo?: AZ Wuppertal\, Markomannenstraße 1-3 42
 105 Wuppertal Mit dabei sind: N.T.Ä (Punk) https://ntapunk.bandcamp.com/ 
 https://www.instagram.com/n.t.a._punk Yogtze (HC-Punk) https://wirsindyogt
 ze.bandcamp.com/ https://www.instagram.com/yogtzeband/ Mrs. Anthrope https
 ://mrsanthrope.bandcamp.com/album/split&amp;hellip\;
CATEGORIES:Konzert
URL;VALUE=URI:https://talticker.net/?mc-events=n-t-ae-record-release-show
METHOD:PUBLISH
END:VEVENT
END:VCALENDAR