BEGIN:VCALENDAR
VERSION:2.0
PRODID:spatie/icalendar-generator
DESCRIPTION:Veranstaltungen von talticker.net
X-WR-CALDESC:Veranstaltungen von talticker.net
REFRESH-INTERVAL;VALUE=DURATION:PT1440M
X-PUBLISHED-TTL:PT1440M
BEGIN:VTIMEZONE
TZID:Europe/Berlin
BEGIN:STANDARD
DTSTART:20251026T030000Z
TZOFFSETFROM:+0200
TZOFFSETTO:+0100
END:STANDARD
BEGIN:DAYLIGHT
DTSTART:20260329T020000Z
TZOFFSETFROM:+0100
TZOFFSETTO:+0200
END:DAYLIGHT
BEGIN:STANDARD
DTSTART:20261025T030000Z
TZOFFSETFROM:+0200
TZOFFSETTO:+0100
END:STANDARD
END:VTIMEZONE
BEGIN:VTIMEZONE
TZID:UTC
BEGIN:STANDARD
DTSTART:20250724T125151Z
TZOFFSETFROM:+0000
TZOFFSETTO:+0000
END:STANDARD
END:VTIMEZONE
BEGIN:VEVENT
UID:2567-400
DTSTAMP:20260420T125151Z
SUMMARY:Mitwirkeck! auf dem Ölberg
LOCATION:Mitwirkeck Marienstr. 46  Wuppertal  42105
ORGANIZER;CN=admin:MAILTO:talticker@riseup.net
RRULE:FREQ=MONTHLY;BYDAY=1FR;UNTIL=20261107T000000Z
DTSTART;TZID=Europe/Berlin:20260703T160000
DTEND;TZID=Europe/Berlin:20260703T190000
X-ALT-DESC;FMTTYPE=TEXT/HTML:📍   mitwirkeck auf dem Ölberg🗓️   J
 eden 1. Freitag im Monat⏰   16 - 19 Uhr ​🔹   Auf Spendenbasis 
 🧶   Alle willkommen! 🌀   Keine Vorkenntnisse nötig :) ​🟣  
  Bring gerne Materialien mit oder bedien‘ dich aus unserem Fundus!​
 💌   Sprich uns an! 🙌🏻   &amp;amp\; Komm vorbei!  Mehr Infos auf d
 er Website oder Insta.
CATEGORIES:Community/Stammtisch
URL;VALUE=URI:https://talticker.net/?mc-events=mitwirkeck-auf-dem-oelberg&amp;m
 c_id=2567
METHOD:PUBLISH
END:VEVENT
END:VCALENDAR