

BEGIN:VCALENDAR
VERSION:2.0
PRODID:spatie/icalendar-generator
DESCRIPTION:Veranstaltungen von talticker.net
X-WR-CALDESC:Veranstaltungen von talticker.net
REFRESH-INTERVAL;VALUE=DURATION:PT1440M
X-PUBLISHED-TTL:PT1440M
BEGIN:VTIMEZONE
TZID:Europe/Berlin
BEGIN:STANDARD
DTSTART:20251026T030000Z
TZOFFSETFROM:+0200
TZOFFSETTO:+0100
END:STANDARD
BEGIN:DAYLIGHT
DTSTART:20260329T020000Z
TZOFFSETFROM:+0100
TZOFFSETTO:+0200
END:DAYLIGHT
END:VTIMEZONE
BEGIN:VTIMEZONE
TZID:UTC
BEGIN:STANDARD
DTSTART:20250724T082304Z
TZOFFSETFROM:+0000
TZOFFSETTO:+0000
END:STANDARD
END:VTIMEZONE
BEGIN:VEVENT
UID:2667-533
DTSTAMP:20260420T082304Z
SUMMARY:Migratresen
LOCATION:AZ Wuppertal Markomannenstr. 1-3  Wuppertal NRW 42105
ORGANIZER;CN=admin:MAILTO:talticker@riseup.net
RRULE:FREQ=MONTHLY;BYDAY=1TH;COUNT=12
DTSTART;TZID=Europe/Berlin:20260402T190000
DTEND;TZID=Europe/Berlin:20260402T200000
X-ALT-DESC;FMTTYPE=TEXT/HTML:Menschen mit diversen Migrations geschichten\,
  welche sich für diesen Tresen zusammengeschlossen haben und den Raum im 
 AZ gezielt mit Migra Perspektiven erweitern wollen. Jeden 1. Donnerstag im
  Monat\, mit Essen\, Musik und/oder Input\, ab 19Uhr im AZ Wuppertal.
CATEGORIES:Café/Kneipe
URL;VALUE=URI:https://talticker.net/?mc-events=migratresen&amp;mc_id=2667
METHOD:PUBLISH
END:VEVENT
END:VCALENDAR