

BEGIN:VCALENDAR
VERSION:2.0
PRODID:spatie/icalendar-generator
DESCRIPTION:Veranstaltungen von talticker.net
X-WR-CALDESC:Veranstaltungen von talticker.net
REFRESH-INTERVAL;VALUE=DURATION:PT1440M
X-PUBLISHED-TTL:PT1440M
BEGIN:VTIMEZONE
TZID:Europe/Berlin
BEGIN:STANDARD
DTSTART:20251026T030000Z
TZOFFSETFROM:+0200
TZOFFSETTO:+0100
END:STANDARD
BEGIN:DAYLIGHT
DTSTART:20260329T020000Z
TZOFFSETFROM:+0100
TZOFFSETTO:+0200
END:DAYLIGHT
BEGIN:STANDARD
DTSTART:20261025T030000Z
TZOFFSETFROM:+0200
TZOFFSETTO:+0100
END:STANDARD
END:VTIMEZONE
BEGIN:VTIMEZONE
TZID:UTC
BEGIN:STANDARD
DTSTART:20250724T111206Z
TZOFFSETFROM:+0000
TZOFFSETTO:+0000
END:STANDARD
END:VTIMEZONE
BEGIN:VEVENT
UID:3111-653
DTSTAMP:20260420T111206Z
SUMMARY:Lesung aus NO SWEET HOME mit Lara Schulschenk
LOCATION:Kollektiv drei Völklinger Platz 3  Wuppertal  42285
ORGANIZER;CN=admin:MAILTO:talticker@riseup.net
DTSTART;TZID=Europe/Berlin:20260423T190000
DTEND;TZID=Europe/Berlin:20260423T210000
X-ALT-DESC;FMTTYPE=TEXT/HTML:Die Mieten steigen nicht - sie werden erhöht!
     Der Wohnungsmarkt ist eine Katastrophe – und Lara Schulschenk zeig
 t\, warum.   In ihrer Lesung am 23. April im Kollektiv Drei zerlegt die A
 utorin die Wohnkrise so unterhaltsam\, präzise und frech\, dass man fast 
 vergisst\, wie ernst das Thema eigentlich ist. Sie liest aus ihrem Buch&amp;he
 llip\;
CATEGORIES:Lesung/Vortrag
URL;VALUE=URI:https://talticker.net/?mc-events=lesung-aus-no-sweet-home-mit
 -lara-schulschenk
METHOD:PUBLISH
END:VEVENT
END:VCALENDAR