



BEGIN:VCALENDAR
VERSION:2.0
PRODID:spatie/icalendar-generator
DESCRIPTION:Veranstaltungen von talticker.net
X-WR-CALDESC:Veranstaltungen von talticker.net
REFRESH-INTERVAL;VALUE=DURATION:PT1440M
X-PUBLISHED-TTL:PT1440M
BEGIN:VTIMEZONE
TZID:Europe/Berlin
BEGIN:STANDARD
DTSTART:20251026T030000Z
TZOFFSETFROM:+0200
TZOFFSETTO:+0100
END:STANDARD
BEGIN:DAYLIGHT
DTSTART:20260329T020000Z
TZOFFSETFROM:+0100
TZOFFSETTO:+0200
END:DAYLIGHT
END:VTIMEZONE
BEGIN:VTIMEZONE
TZID:UTC
BEGIN:STANDARD
DTSTART:20250724T121940Z
TZOFFSETFROM:+0000
TZOFFSETTO:+0000
END:STANDARD
END:VTIMEZONE
BEGIN:VEVENT
UID:2440-131
DTSTAMP:20260420T121940Z
SUMMARY:KüfA-Kneipe im AZ
LOCATION:AZ Wuppertal Markomannenstr. 1-3  Wuppertal NRW 42105
ORGANIZER;CN=admin:MAILTO:talticker@riseup.net
RRULE:FREQ=WEEKLY;UNTIL=20261105T000000Z
DTSTART;TZID=Europe/Berlin:20260204T193000
DTEND;TZID=Europe/Berlin:20260204T203000
X-ALT-DESC;FMTTYPE=TEXT/HTML:Küche für Alle! Jeden Mittwoch ab 19:30Uhr i
 m AZ Wuppertal! KüfA\, Küche für Alle\, was heißt das eigentlich? Küc
 he für Alle heißt\, dass für jede*n auf Spendenbasis ein leckeres\, veg
 anes Essen zubereitet wird\, Alle sollen essen können\, egal wie die eige
 ne finanzielle Lage aussieht. Wir sind eine offene Gruppe und kochen jeden
  Mittwoch frisch\, vegan&amp;hellip\;
CATEGORIES:Café/Kneipe
URL;VALUE=URI:https://talticker.net/?mc-events=kuefa-kneipe-im-az&amp;mc_id=244
 0
METHOD:PUBLISH
END:VEVENT
END:VCALENDAR