

BEGIN:VCALENDAR
VERSION:2.0
PRODID:spatie/icalendar-generator
DESCRIPTION:Veranstaltungen von talticker.net
X-WR-CALDESC:Veranstaltungen von talticker.net
REFRESH-INTERVAL;VALUE=DURATION:PT1440M
X-PUBLISHED-TTL:PT1440M
BEGIN:VTIMEZONE
TZID:Europe/Berlin
BEGIN:STANDARD
DTSTART:20251026T030000Z
TZOFFSETFROM:+0200
TZOFFSETTO:+0100
END:STANDARD
BEGIN:DAYLIGHT
DTSTART:20260329T020000Z
TZOFFSETFROM:+0100
TZOFFSETTO:+0200
END:DAYLIGHT
END:VTIMEZONE
BEGIN:VTIMEZONE
TZID:UTC
BEGIN:STANDARD
DTSTART:20250724T081322Z
TZOFFSETFROM:+0000
TZOFFSETTO:+0000
END:STANDARD
END:VTIMEZONE
BEGIN:VEVENT
UID:3057-622
DTSTAMP:20260420T081322Z
SUMMARY:Kreativabend im K49 - Sticken
LOCATION:K49 Lothringer Straße 49  Wuppertal Nordrhein-Westfalen 42107
ORGANIZER;CN=admin:MAILTO:talticker@riseup.net
DTSTART;TZID=Europe/Berlin:20260304T183000
DTEND;TZID=Europe/Berlin:20260304T193000
X-ALT-DESC;FMTTYPE=TEXT/HTML:Am 04.03. wollen wir im K49 sticken! Ab 18:30!
  Ob Jutebeutel oder kleine Täschchen besticken\, Shirts aufwerten\, oder 
 Patches sticken - alles ist denkbar! Falls ihr habt - bringt gerne Stickra
 hmen\, Stickgarn\, Sticknadeln und Stoffe\, Klamotten etc. mit! Wir werden
  auch ein paar Materialien mitbringen! Wir freuen uns!
CATEGORIES:Sonstiges,  Workshop/Film
URL;VALUE=URI:https://talticker.net/?mc-events=kreativabend-im-k49-sticken
METHOD:PUBLISH
END:VEVENT
END:VCALENDAR