

BEGIN:VCALENDAR
VERSION:2.0
PRODID:spatie/icalendar-generator
DESCRIPTION:Veranstaltungen von talticker.net
X-WR-CALDESC:Veranstaltungen von talticker.net
REFRESH-INTERVAL;VALUE=DURATION:PT1440M
X-PUBLISHED-TTL:PT1440M
BEGIN:VTIMEZONE
TZID:Europe/Berlin
BEGIN:STANDARD
DTSTART:20251026T030000Z
TZOFFSETFROM:+0200
TZOFFSETTO:+0100
END:STANDARD
BEGIN:DAYLIGHT
DTSTART:20260329T020000Z
TZOFFSETFROM:+0100
TZOFFSETTO:+0200
END:DAYLIGHT
END:VTIMEZONE
BEGIN:VTIMEZONE
TZID:UTC
BEGIN:STANDARD
DTSTART:20250724T082915Z
TZOFFSETFROM:+0000
TZOFFSETTO:+0000
END:STANDARD
END:VTIMEZONE
BEGIN:VEVENT
UID:3062-627
DTSTAMP:20260420T082915Z
SUMMARY:Kreativabend im K49 - Serviettentechnik und Upcycling
LOCATION:K49 Lothringer Straße 49  Wuppertal Nordrhein-Westfalen 42107
ORGANIZER;CN=admin:MAILTO:talticker@riseup.net
DTSTART;TZID=Europe/Berlin:20260325T180000
DTEND;TZID=Europe/Berlin:20260325T190000
X-ALT-DESC;FMTTYPE=TEXT/HTML:Am 25.03. wollen wir im K49 wieder gemeinsam k
 reativ werden - diesmal mit Servietten! Wir wollen mit Servietten alle mö
 glichen Gegenstände upcyceln\, schmücken und aufwerten. Bringt hierfür 
 gerne solche Dinge wie Kästchen\, Gläser etc. mit wie auch Servietten. I
 m K49 werden wir aber auch vieles da haben\, vor allem Servietten! Kommt v
 orbei!
CATEGORIES:Workshop/Film
URL;VALUE=URI:https://talticker.net/?mc-events=kreativabend-im-k49-serviett
 entechnik-und-upcycling
METHOD:PUBLISH
END:VEVENT
END:VCALENDAR