

BEGIN:VCALENDAR
VERSION:2.0
PRODID:spatie/icalendar-generator
DESCRIPTION:Veranstaltungen von talticker.net
X-WR-CALDESC:Veranstaltungen von talticker.net
REFRESH-INTERVAL;VALUE=DURATION:PT1440M
X-PUBLISHED-TTL:PT1440M
BEGIN:VTIMEZONE
TZID:Europe/Berlin
BEGIN:STANDARD
DTSTART:20251026T030000Z
TZOFFSETFROM:+0200
TZOFFSETTO:+0100
END:STANDARD
BEGIN:DAYLIGHT
DTSTART:20260329T020000Z
TZOFFSETFROM:+0100
TZOFFSETTO:+0200
END:DAYLIGHT
END:VTIMEZONE
BEGIN:VTIMEZONE
TZID:UTC
BEGIN:STANDARD
DTSTART:20250724T111441Z
TZOFFSETFROM:+0000
TZOFFSETTO:+0000
END:STANDARD
END:VTIMEZONE
BEGIN:VEVENT
UID:3110-652
DTSTAMP:20260420T111441Z
SUMMARY:Konzert von Endeevior mit Lyrik Lesung
LOCATION:K49 Lothringer Straße 49  Wuppertal Nordrhein-Westfalen 42107
ORGANIZER;CN=admin:MAILTO:talticker@riseup.net
DTSTART;TZID=Europe/Berlin:20260411T180000
DTEND;TZID=Europe/Berlin:20260411T190000
X-ALT-DESC;FMTTYPE=TEXT/HTML:Am 11.04 findet im K49 ein Konzert von der Pop
  Jazz Playlist Endeevior statt - begleitend liest Susi Lyrik und Poesie. K
 ommt vorbei! Das K49 ist offen ab 18:00Uhr\, Start ist um 18:30 Uhr!
CATEGORIES:Konzert,  Lesung/Vortrag
URL;VALUE=URI:https://talticker.net/?mc-events=konzert-von-endeevior-mit-ly
 rik-lesung
METHOD:PUBLISH
END:VEVENT
END:VCALENDAR