

BEGIN:VCALENDAR
VERSION:2.0
PRODID:spatie/icalendar-generator
DESCRIPTION:Veranstaltungen von talticker.net
X-WR-CALDESC:Veranstaltungen von talticker.net
REFRESH-INTERVAL;VALUE=DURATION:PT1440M
X-PUBLISHED-TTL:PT1440M
BEGIN:VTIMEZONE
TZID:Europe/Berlin
BEGIN:STANDARD
DTSTART:20251026T030000Z
TZOFFSETFROM:+0200
TZOFFSETTO:+0100
END:STANDARD
BEGIN:DAYLIGHT
DTSTART:20260329T020000Z
TZOFFSETFROM:+0100
TZOFFSETTO:+0200
END:DAYLIGHT
END:VTIMEZONE
BEGIN:VTIMEZONE
TZID:UTC
BEGIN:STANDARD
DTSTART:20250724T110327Z
TZOFFSETFROM:+0000
TZOFFSETTO:+0000
END:STANDARD
END:VTIMEZONE
BEGIN:VEVENT
UID:3108-650
DTSTAMP:20260420T110327Z
SUMMARY:Jump Up and Jive - Soul &amp;amp\; Reggae Niter
LOCATION:AZ Wuppertal Markomannenstr. 1-3  Wuppertal NRW 42105
ORGANIZER;CN=admin:MAILTO:talticker@riseup.net
DTSTART;TZID=Europe/Berlin:20260410T203000
DTEND;TZID=Europe/Berlin:20260411T020000
X-ALT-DESC;FMTTYPE=TEXT/HTML:Die Tuffiskins laden zum Tanzvergnügen ein!No
 rthern Soul\, Earley Reggae\, 60'Ska und Rocksteady werden vom grausigsten
  aller Funde mit 45 rpm auf den Tellern gedreht bis den Samtköpfen schwin
 delig ist. Denn wir machen Party im AZ! KTF!10. April - 20.30UhrAZ Wuppert
 al Markomannenstr. 342105 Wuppertalhttps://www.facebook.com/share/v/18bbum
 f3aN/
CATEGORIES:Party
URL;VALUE=URI:https://talticker.net/?mc-events=jump-up-and-jive-soul-reggae
 -niter-2
METHOD:PUBLISH
END:VEVENT
END:VCALENDAR