

BEGIN:VCALENDAR
VERSION:2.0
PRODID:spatie/icalendar-generator
DESCRIPTION:Veranstaltungen von talticker.net
X-WR-CALDESC:Veranstaltungen von talticker.net
REFRESH-INTERVAL;VALUE=DURATION:PT1440M
X-PUBLISHED-TTL:PT1440M
BEGIN:VTIMEZONE
TZID:Europe/Berlin
BEGIN:STANDARD
DTSTART:20251026T030000Z
TZOFFSETFROM:+0200
TZOFFSETTO:+0100
END:STANDARD
BEGIN:DAYLIGHT
DTSTART:20260329T020000Z
TZOFFSETFROM:+0100
TZOFFSETTO:+0200
END:DAYLIGHT
BEGIN:STANDARD
DTSTART:20261025T030000Z
TZOFFSETFROM:+0200
TZOFFSETTO:+0100
END:STANDARD
END:VTIMEZONE
BEGIN:VTIMEZONE
TZID:UTC
BEGIN:STANDARD
DTSTART:20250724T112001Z
TZOFFSETFROM:+0000
TZOFFSETTO:+0000
END:STANDARD
END:VTIMEZONE
BEGIN:VEVENT
UID:2577-425
DTSTAMP:20260420T112001Z
SUMMARY:Hansa Freitag!
LOCATION:Schmitz\\' Katze Hochstraße 23  Wuppertal North Rhine-Westphalia 
 42105
ORGANIZER;CN=admin:MAILTO:talticker@riseup.net
RRULE:FREQ=MONTHLY;BYDAY=4FR;UNTIL=20261128T000000Z
DTSTART;TZID=Europe/Berlin:20260424T190000
DTEND;TZID=Europe/Berlin:20260425T000000
X-ALT-DESC;FMTTYPE=TEXT/HTML:Da sich der Großteil von euch einig ist\, das
 s Hansa Pils einfach schmackofatz ist\, gibt’s das Edelbier ab jetzt imm
 er am letzten Freitag im Monat zu unschlagbaren gestaffelten Preisen: ab 1
 9:00 Uhr für 0\,70€ ab 20:00 Uhr für 0\,80€ ab 21:00 Uhr für 0\,90
 € ab 22:00 Uhr für 1\,00€ ab 23:00 Uhr für 1\,10€ ab&amp;hellip\;
CATEGORIES:Café/Kneipe
URL;VALUE=URI:https://talticker.net/?mc-events=hansa-freitag&amp;mc_id=2577
METHOD:PUBLISH
END:VEVENT
END:VCALENDAR