

BEGIN:VCALENDAR
VERSION:2.0
PRODID:spatie/icalendar-generator
DESCRIPTION:Veranstaltungen von talticker.net
X-WR-CALDESC:Veranstaltungen von talticker.net
REFRESH-INTERVAL;VALUE=DURATION:PT1440M
X-PUBLISHED-TTL:PT1440M
BEGIN:VTIMEZONE
TZID:Europe/Berlin
BEGIN:STANDARD
DTSTART:20251026T030000Z
TZOFFSETFROM:+0200
TZOFFSETTO:+0100
END:STANDARD
BEGIN:DAYLIGHT
DTSTART:20260329T020000Z
TZOFFSETFROM:+0100
TZOFFSETTO:+0200
END:DAYLIGHT
END:VTIMEZONE
BEGIN:VTIMEZONE
TZID:UTC
BEGIN:STANDARD
DTSTART:20250724T080708Z
TZOFFSETFROM:+0000
TZOFFSETTO:+0000
END:STANDARD
END:VTIMEZONE
BEGIN:VEVENT
UID:2353-58
DTSTAMP:20260420T080708Z
SUMMARY:Frühstück im Café Tacheles
LOCATION:Tacheles e.V. Erwerbslosen- und Sozialhilfeverein Rudolfstraße 12
 5  Wuppertal Nordrhein-Westfalen 42285
ORGANIZER;CN=admin:MAILTO:talticker@riseup.net
RRULE:FREQ=WEEKLY;UNTIL=20261107T000000Z
DTSTART;TZID=Europe/Berlin:20260313T110000
DTEND;TZID=Europe/Berlin:20260313T130000
X-ALT-DESC;FMTTYPE=TEXT/HTML:Lust auf leckeres Essen und heiße Getränke? 
 Auf Plaudern in netter Gesellschaft? Jeden Freitag zwischen 11:00 und 13:0
 0 Uhr laden wir zu einem späten Frühstück ins Café Tacheles ein. Wir w
 ollen miteinander essen\, quatschen\, uns austauschen. Bei Bedarf bieten w
 ir außerdem eine kurze Beratung und Prüfung von Jobcenter-/Sozialamt-Bes
 cheiden. Die Teilnahme\, Essen und Getränke sind kostenlos\,&amp;hellip\;
CATEGORIES:Café/Kneipe
URL;VALUE=URI:https://talticker.net/?mc-events=fruehstueck-im-cafe-tacheles
 &amp;mc_id=2353
METHOD:PUBLISH
END:VEVENT
END:VCALENDAR