

BEGIN:VCALENDAR
VERSION:2.0
PRODID:spatie/icalendar-generator
DESCRIPTION:Veranstaltungen von talticker.net
X-WR-CALDESC:Veranstaltungen von talticker.net
REFRESH-INTERVAL;VALUE=DURATION:PT1440M
X-PUBLISHED-TTL:PT1440M
BEGIN:VTIMEZONE
TZID:Europe/Berlin
BEGIN:STANDARD
DTSTART:20251026T030000Z
TZOFFSETFROM:+0200
TZOFFSETTO:+0100
END:STANDARD
BEGIN:DAYLIGHT
DTSTART:20260329T020000Z
TZOFFSETFROM:+0100
TZOFFSETTO:+0200
END:DAYLIGHT
END:VTIMEZONE
BEGIN:VTIMEZONE
TZID:UTC
BEGIN:STANDARD
DTSTART:20250724T110234Z
TZOFFSETFROM:+0000
TZOFFSETTO:+0000
END:STANDARD
END:VTIMEZONE
BEGIN:VEVENT
UID:1950-362
DTSTAMP:20260420T110234Z
SUMMARY:Ehrenamtsstammtisch
LOCATION:Inside:Out - das queere Zentrum in Wuppertal e.V. Hochstraße 60  
 Wuppertal North Rhine-Westphalia 42105
ORGANIZER;CN=admin:MAILTO:talticker@riseup.net
RRULE:FREQ=MONTHLY;BYDAY=3WE;COUNT=12
DTSTART;TZID=Europe/Berlin:20260415T183000
DTEND;TZID=Europe/Berlin:20260415T193000
X-ALT-DESC;FMTTYPE=TEXT/HTML:Hier könnt ihr die ehrenamtliche Arbeit hinte
 r den Veranstaltungen kennenlernen. Beim Ehrenamtsstammtisch werden die an
 stehenden Veranstaltungen geplant und vergangene Veranstaltungen nachbespr
 ochen. Kommt gerne vorbei\, wenn ihr Interesse an der ehrenamtlichen Arbei
 t im Inside:Out habt! Wir freuen uns auf Euch!✨ Bei Fragen meldet euch g
 erne unter koordination@inside-out-wuppertal.de Auch eine hybride* Teilnah
 me ist möglich\, schreibt uns gerne&amp;hellip\;
CATEGORIES:Community/Stammtisch
URL;VALUE=URI:https://talticker.net/?mc-events=ehrenamtsstammtisch&amp;mc_id=19
 50
METHOD:PUBLISH
END:VEVENT
END:VCALENDAR