BEGIN:VCALENDAR
VERSION:2.0
PRODID:spatie/icalendar-generator
DESCRIPTION:Veranstaltungen von talticker.net
X-WR-CALDESC:Veranstaltungen von talticker.net
REFRESH-INTERVAL;VALUE=DURATION:PT1440M
X-PUBLISHED-TTL:PT1440M
BEGIN:VTIMEZONE
TZID:Europe/Berlin
BEGIN:STANDARD
DTSTART:20251026T030000Z
TZOFFSETFROM:+0200
TZOFFSETTO:+0100
END:STANDARD
BEGIN:DAYLIGHT
DTSTART:20260329T020000Z
TZOFFSETFROM:+0100
TZOFFSETTO:+0200
END:DAYLIGHT
END:VTIMEZONE
BEGIN:VTIMEZONE
TZID:UTC
BEGIN:STANDARD
DTSTART:20250724T082631Z
TZOFFSETFROM:+0000
TZOFFSETTO:+0000
END:STANDARD
END:VTIMEZONE
BEGIN:VEVENT
UID:2550-385
DTSTAMP:20260420T082631Z
SUMMARY:Critical Mass Wuppertal
LOCATION:Kluse/Schauspielhaus Bundesallee 260  Wuppertal  42103
ORGANIZER;CN=admin:MAILTO:talticker@riseup.net
RRULE:FREQ=MONTHLY;BYDAY=1FR;UNTIL=20261107T000000Z
DTSTART;TZID=Europe/Berlin:20260306T190000
DTEND;TZID=Europe/Berlin:20260306T200000
X-ALT-DESC;FMTTYPE=TEXT/HTML:Jeden ersten Freitag im Monat! 19:00 Kluse/Sch
 auspielhaus. 🚲 Bring wen mit! Mehr Infos hier. &amp;nbsp\;
CATEGORIES:Community/Stammtisch,  Kundgebung/Demo
URL;VALUE=URI:https://talticker.net/?mc-events=critical-mass-wuppertal&amp;mc_i
 d=2550
METHOD:PUBLISH
END:VEVENT
END:VCALENDAR