

BEGIN:VCALENDAR
VERSION:2.0
PRODID:spatie/icalendar-generator
DESCRIPTION:Veranstaltungen von talticker.net
X-WR-CALDESC:Veranstaltungen von talticker.net
REFRESH-INTERVAL;VALUE=DURATION:PT1440M
X-PUBLISHED-TTL:PT1440M
BEGIN:VTIMEZONE
TZID:Europe/Berlin
BEGIN:STANDARD
DTSTART:20251026T030000Z
TZOFFSETFROM:+0200
TZOFFSETTO:+0100
END:STANDARD
BEGIN:DAYLIGHT
DTSTART:20260329T020000Z
TZOFFSETFROM:+0100
TZOFFSETTO:+0200
END:DAYLIGHT
BEGIN:STANDARD
DTSTART:20261025T030000Z
TZOFFSETFROM:+0200
TZOFFSETTO:+0100
END:STANDARD
END:VTIMEZONE
BEGIN:VTIMEZONE
TZID:UTC
BEGIN:STANDARD
DTSTART:20250724T110133Z
TZOFFSETFROM:+0000
TZOFFSETTO:+0000
END:STANDARD
END:VTIMEZONE
BEGIN:VEVENT
UID:3087-641
DTSTAMP:20260420T110133Z
SUMMARY:Chaostal trifft die FAU
LOCATION:/dev/tal Mirkerstr. 48a  Wuppertal North Rhine-Westphalia 42105
ORGANIZER;CN=admin:MAILTO:talticker@riseup.net
DTSTART;TZID=Europe/Berlin:20260430T200000
DTEND;TZID=Europe/Berlin:20260430T210000
X-ALT-DESC;FMTTYPE=TEXT/HTML:Am 30. April kommt die FAU ins /dev/tal und h
 ält dort einen Gastvortrag. Kommt gerne vorbei! Um 20:00 Uhr soll es losg
 ehen - wir sind aber auch schon ab 19:00 Uhr da... Die globalgesellschaftl
 iche Lage ist ernst und viele sind hoffnungslos. Wir wollen euch zeigen\, 
 wie man mit der eigenen Hoffnungslosigkeit umgeht und warum gerade&amp;hellip\
 ;
CATEGORIES:Lesung/Vortrag
URL;VALUE=URI:https://talticker.net/?mc-events=chaostal-trifft-die-fau
METHOD:PUBLISH
END:VEVENT
END:VCALENDAR