

BEGIN:VCALENDAR
VERSION:2.0
PRODID:spatie/icalendar-generator
DESCRIPTION:Veranstaltungen von talticker.net
X-WR-CALDESC:Veranstaltungen von talticker.net
REFRESH-INTERVAL;VALUE=DURATION:PT1440M
X-PUBLISHED-TTL:PT1440M
BEGIN:VTIMEZONE
TZID:Europe/Berlin
BEGIN:STANDARD
DTSTART:20251026T030000Z
TZOFFSETFROM:+0200
TZOFFSETTO:+0100
END:STANDARD
BEGIN:DAYLIGHT
DTSTART:20260329T020000Z
TZOFFSETFROM:+0100
TZOFFSETTO:+0200
END:DAYLIGHT
END:VTIMEZONE
BEGIN:VTIMEZONE
TZID:UTC
BEGIN:STANDARD
DTSTART:20250724T123246Z
TZOFFSETFROM:+0000
TZOFFSETTO:+0000
END:STANDARD
END:VTIMEZONE
BEGIN:VEVENT
UID:3094-647
DTSTAMP:20260420T123246Z
SUMMARY:Body Doubling im BOB Campus
LOCATION:BOB Campus Max-Planck-Str. 19  Wuppertal North Rhine-Westphalia 42
 277
ORGANIZER;CN=admin:MAILTO:talticker@riseup.net
RRULE:FREQ=MONTHLY;BYDAY=4WE;COUNT=12
DTSTART;TZID=Europe/Berlin:20260422T163000
DTEND;TZID=Europe/Berlin:20260422T173000
X-ALT-DESC;FMTTYPE=TEXT/HTML:✨ Fällt es dir schwer\, anzufangen oder dra
 nzubleiben? Du bist nicht allein! Wir starten eine offene Gruppe gegen Pro
 krastination – für alle\, die sich mehr Fokus\, Struktur und gegenseiti
 ge Unterstützung wünschen. Besonders hilfreich kann das auch für neurod
 ivergente Menschen sein\, willkommen ist aber jede*r. 📅 Jeder 4. Mittwo
 ch im Monat ab 16:30 Uhr 📍 Ort:&amp;hellip\;
CATEGORIES:Community/Stammtisch
URL;VALUE=URI:https://talticker.net/?mc-events=body-doubling-im-bob-campus&amp;
 mc_id=3094
METHOD:PUBLISH
END:VEVENT
END:VCALENDAR