

BEGIN:VCALENDAR
VERSION:2.0
PRODID:spatie/icalendar-generator
DESCRIPTION:Veranstaltungen von talticker.net
X-WR-CALDESC:Veranstaltungen von talticker.net
REFRESH-INTERVAL;VALUE=DURATION:PT1440M
X-PUBLISHED-TTL:PT1440M
BEGIN:VTIMEZONE
TZID:Europe/Berlin
BEGIN:STANDARD
DTSTART:20251026T030000Z
TZOFFSETFROM:+0200
TZOFFSETTO:+0100
END:STANDARD
BEGIN:DAYLIGHT
DTSTART:20260329T020000Z
TZOFFSETFROM:+0100
TZOFFSETTO:+0200
END:DAYLIGHT
BEGIN:STANDARD
DTSTART:20261025T030000Z
TZOFFSETFROM:+0200
TZOFFSETTO:+0100
END:STANDARD
END:VTIMEZONE
BEGIN:VTIMEZONE
TZID:UTC
BEGIN:STANDARD
DTSTART:20250724T123133Z
TZOFFSETFROM:+0000
TZOFFSETTO:+0000
END:STANDARD
END:VTIMEZONE
BEGIN:VEVENT
UID:2734-156
DTSTAMP:20260420T123133Z
SUMMARY:Az*innen Kreativcafe
LOCATION:Schmitz\\' Katze Hochstraße 23  Wuppertal North Rhine-Westphalia 
 42105
ORGANIZER;CN=admin:MAILTO:talticker@riseup.net
RRULE:FREQ=MONTHLY;BYDAY=3SU;UNTIL=20270118T000000Z
DTSTART;TZID=Europe/Berlin:20260517T150000
DTEND;TZID=Europe/Berlin:20260517T160000
X-ALT-DESC;FMTTYPE=TEXT/HTML:Die Az*innen veranstalten nun nicht nur Konzer
 te\, sondern stehen nun auch jeden 3. Sonntag im Monat in der Schmitz' Kat
 ze (Hochstraße 23\, 42105 Wuppertal) hinterm Tresen wo man die Option hat
  sich mit kreativem Schaffen auszuleben. Ein Paar Materialien werden vor O
 rt Bereitgestellt\, jedoch bitten wir euch\, wenn möglich eigenes Materia
 l mitzubringen.
CATEGORIES:Café/Kneipe
URL;VALUE=URI:https://talticker.net/?mc-events=azinnen-kreativcafe&amp;mc_id=27
 34
METHOD:PUBLISH
END:VEVENT
END:VCALENDAR