

BEGIN:VCALENDAR
VERSION:2.0
PRODID:spatie/icalendar-generator
DESCRIPTION:Veranstaltungen von talticker.net
X-WR-CALDESC:Veranstaltungen von talticker.net
REFRESH-INTERVAL;VALUE=DURATION:PT1440M
X-PUBLISHED-TTL:PT1440M
BEGIN:VTIMEZONE
TZID:Europe/Berlin
BEGIN:STANDARD
DTSTART:20251026T030000Z
TZOFFSETFROM:+0200
TZOFFSETTO:+0100
END:STANDARD
BEGIN:DAYLIGHT
DTSTART:20260329T020000Z
TZOFFSETFROM:+0100
TZOFFSETTO:+0200
END:DAYLIGHT
BEGIN:STANDARD
DTSTART:20261025T030000Z
TZOFFSETFROM:+0200
TZOFFSETTO:+0100
END:STANDARD
END:VTIMEZONE
BEGIN:VTIMEZONE
TZID:UTC
BEGIN:STANDARD
DTSTART:20250724T105959Z
TZOFFSETFROM:+0000
TZOFFSETTO:+0000
END:STANDARD
END:VTIMEZONE
BEGIN:VEVENT
UID:3120-660
DTSTAMP:20260420T105959Z
SUMMARY:AStA Blättertausch
LOCATION:Asta-Ebene Max-Horkheimer-Straße 15 Bergische Universität Wupper
 tal Wuppertal Nordrhein-Westfalen 42119
ORGANIZER;CN=admin:MAILTO:talticker@riseup.net
DTSTART;TZID=Europe/Berlin:20260429T160000
DTEND;TZID=Europe/Berlin:20260429T190000
X-ALT-DESC;FMTTYPE=TEXT/HTML:🌼🪴Am 29.04. ist es endlich wieder soweit
 : unser Blättertausch kommt wieder🥳 Von 16-19 Uhr kannst du auf der AS
 tA-Ebene neben Büchern auch deine vorgezogenen Pflanzen\, Stecklinge\, Ab
 leger und Saatgut tauschen. 🍅🌵Ganz egal ob Zimmerpflanze oder Nutzpf
 lanze\, nur Cannabispflanzen können wir leider nicht erlauben. 💸 Die V
 eranstaltung ist vollständig kostenlos. 🌱🔄 Du bringst deine Pflanze
 n mit\,&amp;hellip\;
CATEGORIES:Community/Stammtisch,  Markt/Flohmarkt,  Sonstiges
URL;VALUE=URI:https://talticker.net/?mc-events=asta-blaettertausch
METHOD:PUBLISH
END:VEVENT
END:VCALENDAR